BEGIN:VCALENDAR
VERSION:2.0
CALSCALE:GREGORIAN
METHOD:PUBLISH
PRODID://ISEE//516942
BEGIN:VEVENT
DTSTAMP:20260422T095755
VTIMEZONE:America/New_York
DTSTART:20260610T160000Z
DTEND:20260610T173000Z
UID:516942
SUMMARY:The ESPINA and SEMILLA Cohorts: Tracking Environmental Impacts on Maternal, Child, and Adolescent Health
LOCATION:ISEE
DESCRIPTION:The ESPINA and SEMILLA Cohorts: Tracking Environmental Impacts on Maternal, Child, and Adolescent Health\n\n06/10/26 12:00 PM EST\n - 06/10/26 01:30 PM EST\Description:\nThis webinar is organized by the Pesticides and Health Special Interest Group, featuring speakers:\n\nJOSE RICARDO SUAREZ\n18 Years of the ESPINA Study: Tracking the Health Effects of Agricultural Pesticides in Ecuador from Childhood through Adulthood\nFor nearly two decades, the ESPINA study has investigated the longitudinal health impacts of agricultural pesticide exposure from childhood into young adulthood within a major floricultural region of Ecuador. This presentation will provide a brief overview of the study's 18-year trajectory, discuss key research findings detailing the physiological and developmental effects of pesticide exposure, as well as provide updates on our ongoing ancillary studies within the cohort. The session will also showcase how we are modernizing our epidemiological approach through the incorporation of new mobile and remote sensing technologies to better capture environmental and human data. Finally, we will outline the new directions of the research, exploring how these technological innovations are shaping the next phase of the ESPINA study.\n\nALEXIS HANDAL\nPrenatal Exposures and Maternal-Child Health in Ecuador's Floricultural Sector: A discussion of the SEMILLA Cohort\nWomen of reproductive age are a key part of the industrial agriculture workforce, yet occupational hazards in these settings remain understudied. In Latin America, women?s labor force participation has steadily increased since 1990, with about one-quarter employed in agriculture, including export-oriented agro-industries. The Ecuadorian floricultural industry offers a critical case for examining the occupational, environmental, and social impacts of large-scale export agriculture on surrounding communities and on the health of women workers, particularly during pregnancy, and their families. Built on research conducted since 2003, SEMILLA follows pregnant workers and nonworkers and their infants in a flower-growing region to assess how chemical exposures, alongside social and structural factors, impact maternal and child health, integrating biomonitoring, exposure assessment, and repeated measures of infant growth and neurodevelopment. Study design and methods, key initial findings, and ongoing analyses linking prenatal exposures to early developmental outcomes will be described. \Location:\nISEE\n\n,
X-ALT-DESC;FMTTYPE=text/html:The ESPINA and SEMILLA Cohorts: Tracking Environmental Impacts on Maternal, Child, and Adolescent Health<br /><br />06/10/26 12:00 PM EST - 06/10/26 01:30 PM EST<br />Description:<br />This webinar is organized by the Pesticides and Health Special Interest Group, featuring speakers:<br />
<br />
<strong>JOSE RICARDO SUAREZ</strong><br />
<em>18 Years of the ESPINA Study: Tracking the Health Effects of Agricultural Pesticides in Ecuador from Childhood through Adulthood</em><br />
For nearly two decades, the ESPINA study has investigated the longitudinal health impacts of agricultural pesticide exposure from childhood into young adulthood within a major floricultural region of Ecuador. This presentation will provide a brief overview of the study's 18-year trajectory, discuss key research findings detailing the physiological and developmental effects of pesticide exposure, as well as provide updates on our ongoing ancillary studies within the cohort. The session will also showcase how we are modernizing our epidemiological approach through the incorporation of new mobile and remote sensing technologies to better capture environmental and human data. Finally, we will outline the new directions of the research, exploring how these technological innovations are shaping the next phase of the ESPINA study.<br />
<br />
<strong>ALEXIS HANDAL</strong><br />
<em>Prenatal Exposures and Maternal-Child Health in Ecuador's Floricultural Sector: A discussion of the SEMILLA Cohort</em><br />
Women of reproductive age are a key part of the industrial agriculture workforce, yet occupational hazards in these settings remain understudied. In Latin America, women?s labor force participation has steadily increased since 1990, with about one-quarter employed in agriculture, including export-oriented agro-industries. The Ecuadorian floricultural industry offers a critical case for examining the occupational, environmental, and social impacts of large-scale export agriculture on surrounding communities and on the health of women workers, particularly during pregnancy, and their families. Built on research conducted since 2003, SEMILLA follows pregnant workers and nonworkers and their infants in a flower-growing region to assess how chemical exposures, alongside social and structural factors, impact maternal and child health, integrating biomonitoring, exposure assessment, and repeated measures of infant growth and neurodevelopment. Study design and methods, key initial findings, and ongoing analyses linking prenatal exposures to early developmental outcomes will be described.&nbsp;<br />Location:<br />ISEE<br /><br />,  
PRIORITY:3
TRANSP:TRANSPARENT
BEGIN:VALARM
TRIGGER:-PT5M
ACTION:DISPLAY
DESCRIPTION:Reminder
END:VALARM
END:VEVENT
END:VCALENDAR
